BEGIN:VCALENDAR
VERSION:2.0
PRODID:-//Tukios.com/
BEGIN:VEVENT
UID:4ae6236e-c478-4d70-81d8-64b6b7837acf@www.funerariamurillosanfernando.com
DTSTAMP:20260421T032446Z
DTSTART:20260421T230000Z
DTEND:20260422T000000Z
SUMMARY:Visitation
DESCRIPTION:
URL:https://www.funerariamurillosanfernando.com/obituaries/antolin-olmos-esqueda
LOCATION:Residence of: Olmo's family 10169 Laurel Canyon Blvd  Pacoima CA 
	91331
GEO:34.2551584;-118.4286863
END:VEVENT
END:VCALENDAR