BEGIN:VCALENDAR
VERSION:2.0
PRODID:-//Tukios.com/
BEGIN:VEVENT
UID:0bd7d13a-d2e8-4e12-b3ec-8c63770c4963@www.funerariamurillosanfernando.com
DTSTAMP:20260421T031936Z
DTSTART:20260422T170000Z
DTEND:20260422T180000Z
SUMMARY:Mass
DESCRIPTION:
URL:https://www.funerariamurillosanfernando.com/obituaries/antolin-olmos-esqueda
LOCATION: 7800 Vineland Ave.  Sun Valley CA 91352
GEO:34.2125398;-118.3698894
END:VEVENT
END:VCALENDAR