BEGIN:VCALENDAR
VERSION:2.0
PRODID:-//Tukios.com/
BEGIN:VEVENT
UID:af7b048d-5423-499c-91dc-8aaf99815da5@www.funerariamurillosanfernando.com
DTSTAMP:20260421T032137Z
DTSTART:20260422T203000Z
DTEND:20260422T213000Z
SUMMARY:Burial
DESCRIPTION:
URL:https://www.funerariamurillosanfernando.com/obituaries/antolin-olmos-esqueda
LOCATION:Holy Cross Catholic Cemetery 444 E. Lexington Ave  Pomona CA 
	91766
GEO:34.0366186;-117.7470177
END:VEVENT
END:VCALENDAR